BEGIN:VCALENDAR
VERSION:2.0
PRODID:-//Elina Valtonen - ECPv6.0.10//NONSGML v1.0//EN
CALSCALE:GREGORIAN
METHOD:PUBLISH
X-ORIGINAL-URL:https://elinavaltonen.fi
X-WR-CALDESC:Tapahtumat Elina Valtonen
REFRESH-INTERVAL;VALUE=DURATION:PT1H
X-Robots-Tag:noindex
X-PUBLISHED-TTL:PT1H
BEGIN:VTIMEZONE
TZID:Europe/Helsinki
BEGIN:DAYLIGHT
TZOFFSETFROM:+0200
TZOFFSETTO:+0300
TZNAME:EEST
DTSTART:20190331T010000
END:DAYLIGHT
BEGIN:STANDARD
TZOFFSETFROM:+0300
TZOFFSETTO:+0200
TZNAME:EET
DTSTART:20191027T010000
END:STANDARD
BEGIN:DAYLIGHT
TZOFFSETFROM:+0200
TZOFFSETTO:+0300
TZNAME:EEST
DTSTART:20200329T010000
END:DAYLIGHT
BEGIN:STANDARD
TZOFFSETFROM:+0300
TZOFFSETTO:+0200
TZNAME:EET
DTSTART:20201025T010000
END:STANDARD
BEGIN:DAYLIGHT
TZOFFSETFROM:+0200
TZOFFSETTO:+0300
TZNAME:EEST
DTSTART:20210328T010000
END:DAYLIGHT
BEGIN:STANDARD
TZOFFSETFROM:+0300
TZOFFSETTO:+0200
TZNAME:EET
DTSTART:20211031T010000
END:STANDARD
BEGIN:DAYLIGHT
TZOFFSETFROM:+0200
TZOFFSETTO:+0300
TZNAME:EEST
DTSTART:20220327T010000
END:DAYLIGHT
BEGIN:STANDARD
TZOFFSETFROM:+0300
TZOFFSETTO:+0200
TZNAME:EET
DTSTART:20221030T010000
END:STANDARD
BEGIN:DAYLIGHT
TZOFFSETFROM:+0200
TZOFFSETTO:+0300
TZNAME:EEST
DTSTART:20230326T010000
END:DAYLIGHT
BEGIN:STANDARD
TZOFFSETFROM:+0300
TZOFFSETTO:+0200
TZNAME:EET
DTSTART:20231029T010000
END:STANDARD
END:VTIMEZONE
BEGIN:VEVENT
DTSTART;TZID=Europe/Helsinki:20230321T170000
DTEND;TZID=Europe/Helsinki:20230321T180000
DTSTAMP:20260425T210226
CREATED:20230227T171218Z
LAST-MODIFIED:20230227T171218Z
UID:2709-1679418000-1679421600@elinavaltonen.fi
SUMMARY:Elina Valtonen Vuosaaressa
DESCRIPTION:Haluaisitko olla mukana rakentamassa Suomelle uutta suuntaa? Sellaista suuntaa\, joka olisi nykyistä vastuullisempi ja valoisampi ja joka loisi ihmisille uusia mahdollisuuksia sekä lisäisi ihmisten vapautta? \nNyt on oikea aika kääntää Suomen suunta ylöspäin ja rakentaa Suomesta mahdollisuuksien maa. Tervetuloa mukaan kokoomuksen varapuheenjohtaja\, kansanedustaja Elina Valtosen kampanjatilaisuuteen Vuosaareen!💙 Tilaisuus pidetään Kirjakahvila Pokkarissa tiistaina 21.3. kello 17 alkaen. \nTilaisuuden aikana kuulemme Elinan näkemyksistä Suomen tulevaisuuden suhteen: miten käännämme suunnan kasvuun\, miten rakennamme Suomesta mahdollisuuksien maan? Lisäksi käymme yhdessä keskustelua tulevan vaalikauden haasteista ja mahdollisuuksista. Tilaisuudessa on kevyttä tarjoilua. \nTilaisuus on kaikille avoin\, lämpimästi tervetuloa! \nMITÄ? Elina Valtosen kampanjatilaisuus Vuosaaressa\nMILLOIN? Tiistaina 21.3. kello 17 – 18\nMISSÄ? Kirjakahvila Pokkari\, Mosaiikkitori 2\nMIKSI? Koska on aika rakentaa Suomesta mahdollisuuksien maa! \nLisätietoja:\nMatias Pajula\nKampanjapäällikkö\nmatias.pajula@gmail.com\n050 575 3347
URL:https://elinavaltonen.fi/tapahtuma/elina-valtonen-vuosaaressa/
LOCATION:Kirjakahvila Pokkari\, Mosaiikkitori 2\, Helsinki
ATTACH;FMTTYPE=image/jpeg:https://elinavaltonen.fi/wp-content/uploads/2023/02/Elina_Vuosaari.jpg
END:VEVENT
BEGIN:VEVENT
DTSTART;TZID=Europe/Helsinki:20230320T170000
DTEND;TZID=Europe/Helsinki:20230320T180000
DTSTAMP:20260425T210226
CREATED:20230227T171050Z
LAST-MODIFIED:20230227T171050Z
UID:2706-1679331600-1679335200@elinavaltonen.fi
SUMMARY:Elina Valtonen Lauttasaaressa
DESCRIPTION:Haluaisitko olla mukana rakentamassa Suomelle uutta suuntaa? Sellaista suuntaa\, joka olisi nykyistä vastuullisempi ja valoisampi ja joka loisi ihmisille uusia mahdollisuuksia sekä lisäisi ihmisten vapautta? \nNyt on oikea aika kääntää Suomen suunta ylöspäin ja rakentaa Suomesta mahdollisuuksien maa. Tervetuloa mukaan kokoomuksen varapuheenjohtaja\, kansanedustaja Elina Valtosen kampanjatilaisuuteen Lauttasaareen!💙 Tilaisuus pidetään Fazer Café Lauttasaaressa maanantaina 20.3. kello 17 alkaen. \nTilaisuuden aikana kuulemme Elinan näkemyksistä Suomen tulevaisuuden suhteen: miten käännämme suunnan kasvuun\, miten rakennamme Suomesta mahdollisuuksien maan? Lisäksi käymme yhdessä keskustelua tulevan vaalikauden haasteista ja mahdollisuuksista. Tilaisuudessa on kevyttä tarjoilua. \nTilaisuus on kaikille avoin\, lämpimästi tervetuloa! \nMITÄ? Elina Valtosen kampanjatilaisuus Lauttasaaressa\nMILLOIN? Maanantaina 20.3. kello 17 – 18\nMISSÄ? Fazer Café Lauttasaari\, Lauttasaarentie 29\nMIKSI? Koska on aika rakentaa Suomesta mahdollisuuksien maa! \nLisätietoja:\nMatias Pajula\nKampanjapäällikkö\nmatias.pajula@gmail.com\n050 575 3347
URL:https://elinavaltonen.fi/tapahtuma/elina-valtonen-lauttasaaressa/
LOCATION:Fazer Cafe Lauttasaari\, Lauttasaarentie 29\, Helsinki
ATTACH;FMTTYPE=image/jpeg:https://elinavaltonen.fi/wp-content/uploads/2023/02/Elina_Lauttasaari.jpg
END:VEVENT
BEGIN:VEVENT
DTSTART;TZID=Europe/Helsinki:20230314T160000
DTEND;TZID=Europe/Helsinki:20230314T170000
DTSTAMP:20260425T210226
CREATED:20230227T171330Z
LAST-MODIFIED:20230227T171330Z
UID:2712-1678809600-1678813200@elinavaltonen.fi
SUMMARY:Elina Valtonen Pakilassa
DESCRIPTION:Haluaisitko olla mukana rakentamassa Suomelle uutta suuntaa? Sellaista suuntaa\, joka olisi nykyistä vastuullisempi ja valoisampi ja joka loisi ihmisille uusia mahdollisuuksia sekä lisäisi ihmisten vapautta? \nNyt on oikea aika kääntää Suomen suunta ylöspäin ja rakentaa Suomesta mahdollisuuksien maa. Tervetuloa mukaan kokoomuksen varapuheenjohtaja\, kansanedustaja Elina Valtosen kampanjatilaisuuteen Pakilaan! 💙 Tilaisuus pidetään House of Sandwiches’issa tiistaina 14.3. kello 16 alkaen. \nTilaisuuden aikana kuulemme Elinan näkemyksistä Suomen tulevaisuuden suhteen: miten käännämme suunnan kasvuun\, miten rakennamme Suomesta mahdollisuuksien maan? Lisäksi käymme yhdessä keskustelua tulevan vaalikauden haasteista ja mahdollisuuksista. Tilaisuudessa on kevyttä tarjoilua. \nTilaisuus on kaikille avoin\, lämpimästi tervetuloa! \nMITÄ? Elina Valtosen kampanjatilaisuus Pakilassa\nMILLOIN? Tiistaina 14.3. kello 16 – 17\nMISSÄ? House of Sandwiches\, Pakilantie 56\nMIKSI? Koska on aika rakentaa Suomesta mahdollisuuksien maa! \nLisätietoja:\nMatias Pajula\nKampanjapäällikkö\nmatias.pajula@gmail.com\n050 575 3347
URL:https://elinavaltonen.fi/tapahtuma/elina-valtonen-pakilassa/
LOCATION:House of Sandwiches\, Pakilantie 56\, Helsinki
ATTACH;FMTTYPE=image/jpeg:https://elinavaltonen.fi/wp-content/uploads/2023/02/Elina_Pasila.jpg
END:VEVENT
BEGIN:VEVENT
DTSTART;TZID=Europe/Helsinki:20230307T180000
DTEND;TZID=Europe/Helsinki:20230307T190000
DTSTAMP:20260425T210226
CREATED:20230227T170858Z
LAST-MODIFIED:20230227T170858Z
UID:2698-1678212000-1678215600@elinavaltonen.fi
SUMMARY:Elina Valtonen Pukinmäessä
DESCRIPTION:Haluaisitko olla mukana rakentamassa Suomelle uutta suuntaa? Sellaista suuntaa\, joka olisi nykyistä vastuullisempi ja valoisampi ja joka loisi ihmisille uusia mahdollisuuksia sekä lisäisi ihmisten vapautta? \nNyt on oikea aika kääntää Suomen suunta ylöspäin ja rakentaa Suomesta mahdollisuuksien maa. Tervetuloa mukaan kokoomuksen varapuheenjohtaja\, kansanedustaja Elina Valtosen kampanjatilaisuuteen Pukinmäkeen! 💙 Tilaisuus pidetään LoKal Food & Barissa tiistaina 7.3. kello 18 alkaen. \nTilaisuuden aikana kuulemme Elinan näkemyksistä Suomen tulevaisuuden suhteen: miten käännämme suunnan kasvuun\, miten rakennamme Suomesta mahdollisuuksien maan? Lisäksi käymme yhdessä keskustelua tulevan vaalikauden haasteista ja mahdollisuuksista. Tilaisuudessa on kevyttä tarjoilua. \nTilaisuus on kaikille avoin\, lämpimästi tervetuloa! \nMITÄ? Elina Valtosen kampanjatilaisuus Pukinmäessä\nMILLOIN? Tiistaina 7.3. kello 18 – 19\nMISSÄ? LoKal Food & Bar\, Pukinmäenkaari 18\nMIKSI? Koska on aika rakentaa Suomesta mahdollisuuksien maa! \nLisätietoja:\nMatias Pajula\nKampanjapäällikkö\nmatias.pajula@gmail.com\n050 575 3347
URL:https://elinavaltonen.fi/tapahtuma/elina-valtonen-pukinmaessa/
LOCATION:LoKal Food & Bar\, Pukinmäenkaari 18\, Helsinki
ATTACH;FMTTYPE=image/jpeg:https://elinavaltonen.fi/wp-content/uploads/2023/02/Elina_Pukinmaki.jpg
END:VEVENT
BEGIN:VEVENT
DTSTART;TZID=Europe/Helsinki:20230306T180000
DTEND;TZID=Europe/Helsinki:20230306T190000
DTSTAMP:20260425T210226
CREATED:20230227T171511Z
LAST-MODIFIED:20230227T171511Z
UID:2715-1678125600-1678129200@elinavaltonen.fi
SUMMARY:Elina Valtonen Munkkiniemessä
DESCRIPTION:Haluaisitko olla mukana rakentamassa Suomelle uutta suuntaa? Sellaista suuntaa\, joka olisi nykyistä vastuullisempi ja valoisampi ja joka loisi ihmisille uusia mahdollisuuksia sekä lisäisi ihmisten vapautta? \nNyt on oikea aika kääntää Suomen suunta ylöspäin ja rakentaa Suomesta mahdollisuuksien maa. Tervetuloa mukaan kokoomuksen varapuheenjohtaja\, kansanedustaja Elina Valtosen kampanjatilaisuuteen Munkkiniemeen!💙 Tilaisuus pidetään Max’s Cafessa maanantaina 6.3. kello 18 alkaen. \nTilaisuuden aikana kuulemme Elinan näkemyksistä Suomen tulevaisuuden suhteen: miten käännämme suunnan kasvuun\, miten rakennamme Suomesta mahdollisuuksien maan? Lisäksi käymme yhdessä keskustelua tulevan vaalikauden haasteista ja mahdollisuuksista. Tilaisuudessa on kevyttä tarjoilua. \nTilaisuus on kaikille avoin\, lämpimästi tervetuloa! \nMITÄ? Elina Valtosen kampanjatilaisuus Munkkiniemessä\nMILLOIN? Maanantaina 6.3. kello 18 – 19\nMISSÄ? Max’s Cafe\, Munkkiniemen puistotie 7\nMIKSI? Koska on aika rakentaa Suomesta mahdollisuuksien maa! \nLisätietoja:\nMatias Pajula\nKampanjapäällikkö\nmatias.pajula@gmail.com\n050 575 3347
URL:https://elinavaltonen.fi/tapahtuma/elina-valtonen-munkkiniemessa/
LOCATION:Max’s Cafe\, Munkkiniemen puistotie 7\, Helsinki
ATTACH;FMTTYPE=image/jpeg:https://elinavaltonen.fi/wp-content/uploads/2023/02/Elina_Munkkiniemi.jpg
END:VEVENT
BEGIN:VEVENT
DTSTART;TZID=Europe/Helsinki:20230306T160000
DTEND;TZID=Europe/Helsinki:20230306T170000
DTSTAMP:20260425T210226
CREATED:20230227T170119Z
LAST-MODIFIED:20230227T170119Z
UID:2693-1678118400-1678122000@elinavaltonen.fi
SUMMARY:Elina Valtonen Herttoniemessä
DESCRIPTION:Haluaisitko olla mukana rakentamassa Suomelle uutta suuntaa? Sellaista suuntaa\, joka olisi nykyistä vastuullisempi ja valoisampi ja joka loisi ihmisille uusia mahdollisuuksia sekä lisäisi ihmisten vapautta? \nNyt on oikea aika kääntää Suomen suunta ylöspäin ja rakentaa Suomesta mahdollisuuksien maa. Tervetuloa mukaan kokoomuksen varapuheenjohtaja\, kansanedustaja Elina Valtosen kampanjatilaisuuteen Herttoniemeen!💙 Tilaisuus pidetään ravintola Fat Lizardissa maanantaina 6.3. kello 16 alkaen. \nTilaisuuden aikana kuulemme Elinan näkemyksistä Suomen tulevaisuuden suhteen: miten käännämme suunnan kasvuun\, miten rakennamme Suomesta mahdollisuuksien maan? Lisäksi käymme yhdessä keskustelua tulevan vaalikauden haasteista ja mahdollisuuksista. Tilaisuudessa on kevyttä tarjoilua. \nKampanjatilaisuus on kaikille avoin\, lämpimästi tervetuloa! \nMITÄ? Elina Valtosen kampanjatilaisuus Herttoniemessä\nMILLOIN? Maanantaina 6.3. kello 16 – 17\nMISSÄ? Ravintola Fat Lizard\, Linnanrakentajantie 2\nMIKSI? Koska on aika rakentaa Suomesta mahdollisuuksien maa! \nLisätietoja:\nMatias Pajula\nKampanjapäällikkö\nmatias.pajula@gmail.com\n050 575 3347
URL:https://elinavaltonen.fi/tapahtuma/elina-valtonen-herttoniemessa/
LOCATION:Ravintola Fat Lizard\, Linnanrakentajantie 2\, Helsinki
ATTACH;FMTTYPE=image/jpeg:https://elinavaltonen.fi/wp-content/uploads/2023/02/Elina_Herttoniemi.jpg
END:VEVENT
BEGIN:VEVENT
DTSTART;TZID=Europe/Helsinki:20230302T180000
DTEND;TZID=Europe/Helsinki:20230302T200000
DTSTAMP:20260425T210226
CREATED:20230214T112422Z
LAST-MODIFIED:20230214T112422Z
UID:2677-1677780000-1677787200@elinavaltonen.fi
SUMMARY:Elinan kampanjastartti
DESCRIPTION:Haluaisitko olla mukana rakentamassa Suomelle uutta suuntaa? Sellaista suuntaa\, joka olisi nykyistä vastuullisempi ja valoisampi ja joka loisi ihmisille uusia mahdollisuuksia sekä lisäisi ihmisten vapautta? \nNyt on oikea aika kääntää Suomen suunta ylöspäin ja rakentaa Suomesta mahdollisuuksien maa. Tervetuloa mukaan starttaamaan Elina Valtosen vaalikampanjaa ravintola Maxineen torstaina 2.3. kello 18 alkaen! \nIllan aikana Elina kertoo\, minkälainen mahdollisuuksien maa todellisuudessa on ja miten Suomesta sellainen rakennetaan. Keskustelua ja illanviettoa siivittämään tarjoillaan Elinan oma drinkki ja erinomaista ohjelmaa. \nTilaisuus on kaikille avoin\, lämpimästi tervetuloa mukaan! \nMITÄ? Elina Valtosen kampanjastartti\nMILLOIN? Torstaina 2.3. kello 18 alkaen\nMISSÄ? Ravintola Maxine\, Urho Kekkosen katu 1\, 00100 Helsinki\nMIKSI? Koska Suomesta on syytä tehdä mahdollisuuksien maa! \nLisätietoja:\nMatias Pajula\nKampanjapäällikkö\nmatias.pajula@gmail.com\n050 575 3347
URL:https://elinavaltonen.fi/tapahtuma/elinan-kampanjastartti/
LOCATION:Ravintola Maxine\, Urho Kekkosenkatu 1\, 6. kerros\, 00100 Helsinki
ATTACH;FMTTYPE=image/png:https://elinavaltonen.fi/wp-content/uploads/2023/02/Copy-of-Elinan-somekuvat-169.png
END:VEVENT
BEGIN:VEVENT
DTSTART;TZID=Europe/Helsinki:20221130T183000
DTEND;TZID=Europe/Helsinki:20221130T203000
DTSTAMP:20260425T210226
CREATED:20221109T170550Z
LAST-MODIFIED:20221109T170550Z
UID:2595-1669833000-1669840200@elinavaltonen.fi
SUMMARY:Elinan tiimi-ilta💙
DESCRIPTION:Haluaisitko olla mukana rakentamassa Suomelle uutta suuntaa? Sellaista suuntaa\, joka olisi nykyistä vastuullisempi ja valoisampi ja joka loisi ihmisille uusia mahdollisuuksia sekä lisäisi ihmisten vapautta? \nJos tämä suunta kuulostaa sellaiselta\, johon uskot ja jonka rakentamisessa haluaisit olla mukana\, tervetuloa Elina Valtosen tiimi-iltaan keskiviikkona 30.11. kello 18:30 alkaen! Paikkana toimii Ravintola Teatterin Kellobaari. \nTiimi-illassa pohdimme yhdessä lähestyviä eduskuntavaaleja ja keskustelemme siitä\, minkälaisella kampanjalla lähdemme yhdessä Suomen suuntaa muuttamaan. Tarkoituksena on vaihtaa ajatuksia\, pohtia tulevaa ja nostaa maljaa kampanjalle ja valoisammalle tulevaisuudelle. Tiimi-iltaan ja ylipäätänsä kampanjaan osallistuminen ei sido sinua mihinkään: mukana saa olla juuri sen verran kun ehdit! \nOlisi hienoa saada sinut mukaan tiimi-iltaan ja kampanjaan. Lämpimästi tervetuloa!💙
URL:https://elinavaltonen.fi/tapahtuma/elinan-tiimi-ilta%f0%9f%92%99/
LOCATION:Ravintola Teatteri\, Kellobaari\, Pohjoisesplanadi 2\, Helsinki\, 00130\, Suomi
ATTACH;FMTTYPE=image/png:https://elinavaltonen.fi/wp-content/uploads/2022/11/ElinaValtonen_TapahtumanKansikuva.png
END:VEVENT
BEGIN:VEVENT
DTSTART;TZID=Europe/Helsinki:20210208T173000
DTEND;TZID=Europe/Helsinki:20210208T190000
DTSTAMP:20260425T210226
CREATED:20210121T101703Z
LAST-MODIFIED:20210121T101703Z
UID:2433-1612805400-1612810800@elinavaltonen.fi
SUMMARY:Teams-tapahtuma: Kokoomus ja nuoret
DESCRIPTION:Teams-tapaamiseen ovat kaikki tervetulleita. Tapahtumassa kokoomusnuoret ja Kokoomuksen puheenjohtaja Petteri Orpo ja varapuheenjohtaja Elina Lepomäki keskutelevat puolueen tulevaisuudesta.
URL:https://elinavaltonen.fi/tapahtuma/teams-tapahtuma-kokoomus-ja-nuoret/
END:VEVENT
BEGIN:VEVENT
DTSTART;TZID=Europe/Helsinki:20201216T080000
DTEND;TZID=Europe/Helsinki:20201216T090000
DTSTAMP:20260425T210226
CREATED:20201215T123852Z
LAST-MODIFIED:20201215T123852Z
UID:2407-1608105600-1608109200@elinavaltonen.fi
SUMMARY:Aamuglögit Elina Lepomäen kanssa Teamsissa
DESCRIPTION:Erittäin poikkeuksellinen vuosi tulee kohta päätökseensä – mitä jäi käteen vuodesta 2020? Tule Teamsiin kuuntelemaan ja kyselemään\, kun kansanedustaja ja kokoomuksen varapuheenjohtaja Elina Lepomäki saapuu linjoille\nMillä mielellä Elina suuntaa joulun viettoon? Mikä oli politiikan vuodessa hyvää\, entäpä mikä meni pieleen? Teamsissa on mahdollisuus myös itse kysyä mieltänsä askarruttavista asioista.\nNappaa käteesi mukillinen lämmintä glögiä ja starttaa aamusi Elinan kanssa. Tervetuloa mukaan!\nTästä linkistä pääset näppärästi linjoille: https://bit.ly/Elinanglogit
URL:https://elinavaltonen.fi/tapahtuma/aamuglogit-elina-lepomaen-kanssa-teamsissa/
END:VEVENT
BEGIN:VEVENT
DTSTART;TZID=Europe/Helsinki:20200401T170000
DTEND;TZID=Europe/Helsinki:20200401T190000
DTSTAMP:20260425T210226
CREATED:20200220T081411Z
LAST-MODIFIED:20200305T115207Z
UID:2377-1585760400-1585767600@elinavaltonen.fi
SUMMARY:Seinäjoki
DESCRIPTION:
URL:https://elinavaltonen.fi/tapahtuma/seinajoki/
END:VEVENT
BEGIN:VEVENT
DTSTART;TZID=Europe/Helsinki:20200311T164500
DTEND;TZID=Europe/Helsinki:20200311T200000
DTSTAMP:20260425T210226
CREATED:20200220T081327Z
LAST-MODIFIED:20200220T081327Z
UID:2375-1583945100-1583956800@elinavaltonen.fi
SUMMARY:Turku
DESCRIPTION:
URL:https://elinavaltonen.fi/tapahtuma/turku/
END:VEVENT
BEGIN:VEVENT
DTSTART;TZID=Europe/Helsinki:20200220T160000
DTEND;TZID=Europe/Helsinki:20200220T180000
DTSTAMP:20260425T210226
CREATED:20200220T081157Z
LAST-MODIFIED:20200220T081157Z
UID:2371-1582214400-1582221600@elinavaltonen.fi
SUMMARY:Helsingin Kokoomuksen Naiset
DESCRIPTION:
URL:https://elinavaltonen.fi/tapahtuma/helsingin-kokoomuksen-naiset/
LOCATION:Kampin palvelukeskus\, Salomonkatu 21B\, Helsinki
END:VEVENT
BEGIN:VEVENT
DTSTART;TZID=Europe/Helsinki:20190414T090000
DTEND;TZID=Europe/Helsinki:20190414T200000
DTSTAMP:20260425T210226
CREATED:20190324T210846Z
LAST-MODIFIED:20190324T211142Z
UID:2136-1555232400-1555272000@elinavaltonen.fi
SUMMARY:Äänestäminen vaalipäivänä
DESCRIPTION:Vaalipäivänä äänioikeutettu saa äänestää vain siinä äänestyspaikassa\, joka on merkitty äänioikeusrekisteriin ja äänestäjälle postitse saapuneeseen ilmoituskorttiin. Äänestyspaikat ovat avoinna klo 9-20. \nElina Lepomäen numero on: 156 \nVaalilippu hyväksytään vain kun siihen ei kirjoiteta tai piirretä mitään muuta. \n1. Ota mukaasi äänestyspaikalle ehdottomasti henkilöllisyystodistus\, joka voi olla poliisin myöntämä henkilökortti\, passi\, ajokortti taikka vastaava kuvallinen asiakirja. Jos Sinulla ei ole tällaista asiakirjaa\, voit hakea lähimmältä poliisilaitokselta äänestämistä varten annettavaa maksutonta väliaikaista henkilökorttia. Sitä hakiessasi tarvitset kaksi passikuvaa. \n2. Vaalipäivänä voit äänestää vain omassa äänestyspaikassasi eli siinä äänestyspaikassa\, joka on merkitty Sinulle saapuneeseen äänioikeusilmoitukseen. Itse äänioikeusilmoitusta ei tarvita äänestyksessä\, mutta voit ottaa sen mukaasi jos haluat. Mikäli et jostain syystä ole saanut ilmoitusta\, voit tiedustella sitä ja/tai sen tietosisältöä lähimmästä maistraatista. Omaa äänestyspaikkaasi voit kysyä myös vaalipalvelunumerosta 0800 9 4770.
URL:https://elinavaltonen.fi/tapahtuma/aanestaminen-vaalipaivana/
END:VEVENT
BEGIN:VEVENT
DTSTART;TZID=Europe/Helsinki:20190413T123000
DTEND;TZID=Europe/Helsinki:20190413T150000
DTSTAMP:20260425T210226
CREATED:20190408T090303Z
LAST-MODIFIED:20190408T090303Z
UID:2350-1555158600-1555167600@elinavaltonen.fi
SUMMARY:Elina tavattavissa Iso Omenassa ja vaalimökillä
DESCRIPTION:Elina tavattavissa Matinkylän Iso Omenassa ja vaalimökillä (Piispanaukio) 12.30-15
URL:https://elinavaltonen.fi/tapahtuma/elina-tavattavissa-iso-omenassa-ja-vaalimokilla/
END:VEVENT
BEGIN:VEVENT
DTSTART;TZID=Europe/Helsinki:20190413T100000
DTEND;TZID=Europe/Helsinki:20190413T140000
DTSTAMP:20260425T210226
CREATED:20190219T220452Z
LAST-MODIFIED:20190219T220452Z
UID:1925-1555149600-1555164000@elinavaltonen.fi
SUMMARY:Toimintapäivä 13.4.2019
DESCRIPTION:
URL:https://elinavaltonen.fi/tapahtuma/toimintapaiva-13-4-2019/
LOCATION:Turut ja torit
END:VEVENT
BEGIN:VEVENT
DTSTART;TZID=Europe/Helsinki:20190413T100000
DTEND;TZID=Europe/Helsinki:20190413T120000
DTSTAMP:20260425T210226
CREATED:20190408T090138Z
LAST-MODIFIED:20190408T090138Z
UID:2348-1555149600-1555156800@elinavaltonen.fi
SUMMARY:Elina tavattavissa Tapiolassa
DESCRIPTION:Elina tavattavissa Tapiolassa klo 10-12
URL:https://elinavaltonen.fi/tapahtuma/elina-tavattavissa-tapiolassa/
END:VEVENT
BEGIN:VEVENT
DTSTART;TZID=Europe/Helsinki:20190413T100000
DTEND;TZID=Europe/Helsinki:20190413T110000
DTSTAMP:20260425T210226
CREATED:20190411T165704Z
LAST-MODIFIED:20190411T165721Z
UID:2353-1555149600-1555153200@elinavaltonen.fi
SUMMARY:Elina tavattavissa paikkana OLLIN KAHVILA!
DESCRIPTION:Aamusumpit Elinan kanssa Ollin Kahvilassa Heikintorilla!
URL:https://elinavaltonen.fi/tapahtuma/elina-tavattavissa-paikkana-ollin-kahvila/
LOCATION:Ollin Kahvila\, Heikintori\, Espoo\, 02100
ORGANIZER;CN="Elina%20Lepom%C3%A4ki":MAILTO:elinaeduskuntaa@gmail.com
END:VEVENT
BEGIN:VEVENT
DTSTART;TZID=Europe/Helsinki:20190412T130000
DTEND;TZID=Europe/Helsinki:20190412T150000
DTSTAMP:20260425T210226
CREATED:20190408T085906Z
LAST-MODIFIED:20190408T085906Z
UID:2345-1555074000-1555081200@elinavaltonen.fi
SUMMARY:Elina tavattavissa Vantaan Paalutorilla
DESCRIPTION:Elina tavattavissa Vantaan Paalutorilla kello 13-15
URL:https://elinavaltonen.fi/tapahtuma/elina-tavattavissa-vantaan-paalutorilla/
LOCATION:Paalutori\, 01600 Vantaa
END:VEVENT
BEGIN:VEVENT
DTSTART;TZID=Europe/Helsinki:20190412T120000
DTEND;TZID=Europe/Helsinki:20190412T123000
DTSTAMP:20260425T210226
CREATED:20190407T095352Z
LAST-MODIFIED:20190407T095352Z
UID:2335-1555070400-1555072200@elinavaltonen.fi
SUMMARY:Vaalipaneeli: Tieto * Talous * Turvallisuus\, Sello 12.4. klo 12:00-12:30
DESCRIPTION:Vaalipaneeli: Tieto * Talous * Turvallisuus\, Sello 12.4. klo 12:00-12:30
URL:https://elinavaltonen.fi/tapahtuma/vaalipaneeli-tieto-talous-turvallisuus-sello-12-4-klo-1200-1230/
END:VEVENT
BEGIN:VEVENT
DTSTART;TZID=Europe/Helsinki:20190412T110000
DTEND;TZID=Europe/Helsinki:20190412T123000
DTSTAMP:20260425T210226
CREATED:20190408T085717Z
LAST-MODIFIED:20190408T085717Z
UID:2342-1555066800-1555072200@elinavaltonen.fi
SUMMARY:Elina tavattavissa Sellossa
DESCRIPTION:Elina tavattavissa Sellossa 11-12.30
URL:https://elinavaltonen.fi/tapahtuma/elina-tavattavissa-sellossa/
LOCATION:Kauppakeskus Sello\, Leppävaarankatu 3-9\, 02600 Espoo
END:VEVENT
BEGIN:VEVENT
DTSTART;TZID=Europe/Helsinki:20190411T130000
DTEND;TZID=Europe/Helsinki:20190411T143000
DTSTAMP:20260425T210226
CREATED:20190408T085344Z
LAST-MODIFIED:20190408T085344Z
UID:2339-1554987600-1554993000@elinavaltonen.fi
SUMMARY:Torstai 11.4. Klo 13-14.30 Kerava Elina Me-säätiön syrjäytymistä käsittelevässä paneelissa ja tavattavissa paneelin jälkeen
DESCRIPTION:Elina Me-säätiön syrjäytymistä käsittelevässä paneelissa klo 13.00-14.00 ja tavattavissa paneelin jälkeen 14-14.30 Keravan kirjaston 2. kerroksessa! \n 
URL:https://elinavaltonen.fi/tapahtuma/torstai-11-4-klo-13-14-30-kerava-elina-me-saation-syrjaytymista-kasittelevassa-paneelissa-ja-tavattavissa-paneelin-jalkeen/
LOCATION:Keravan Kirjasto\, 2. krs\, Paasikivenkatu 12\, 04200 Kerava
END:VEVENT
BEGIN:VEVENT
DTSTART;TZID=Europe/Helsinki:20190410T170000
DTEND;TZID=Europe/Helsinki:20190410T174500
DTSTAMP:20260425T210226
CREATED:20190326T130318Z
LAST-MODIFIED:20190401T122353Z
UID:2174-1554915600-1554918300@elinavaltonen.fi
SUMMARY:Elina Lepomäki ja Leena Zittling - Pienyritysten kansainvälistymisen vaikutukset talouteen
DESCRIPTION:
URL:https://elinavaltonen.fi/tapahtuma/elina-lepomaki-ja-leena-zittling-pienyritysten-kansainvalistymisen-vaikutukset-talouteen/
LOCATION:Vaalimökki\, Piispanaukio\, 02230 Espoo
END:VEVENT
BEGIN:VEVENT
DTSTART;TZID=Europe/Helsinki:20190407T120000
DTEND;TZID=Europe/Helsinki:20190407T140000
DTSTAMP:20260425T210226
CREATED:20190407T072911Z
LAST-MODIFIED:20190407T072911Z
UID:2331-1554638400-1554645600@elinavaltonen.fi
SUMMARY:Matinkylän ranta\, Elina tavattavissa klo 12  · Cafe Merenneito
DESCRIPTION:Matinkylän rannassa Cafe Merenneidon edessä Elina tavattavissa klo 12 alkaen. Tervetuloa!
URL:https://elinavaltonen.fi/tapahtuma/matinkylan-ranta-elina-tavattavissa-klo-12-%c2%b7-cafe-merenneito/
END:VEVENT
BEGIN:VEVENT
DTSTART;TZID=Europe/Helsinki:20190406T150000
DTEND;TZID=Europe/Helsinki:20190406T160000
DTSTAMP:20260425T210226
CREATED:20190327T131708Z
LAST-MODIFIED:20190404T053806Z
UID:2236-1554562800-1554566400@elinavaltonen.fi
SUMMARY:Elina Lepomäki & Marika Niemi Cafe Mellstenissä
DESCRIPTION:6.4. klo 15-16 Elina Lepomäki tavattavissa Cafe Mellstenissä\, mukana myös Marika Niemi\, Espoon opetus- ja varhaiskasvatuslautakunnan pj. ja liiketalouden lehtori. \n– Vastaako koulu nykypäivän tarpeisiin?\n– Miksi niin moni nuori on vailla suuntaa ja syrjäytyy?\n– Ammatillinen koulutus – väylä työelämään
URL:https://elinavaltonen.fi/tapahtuma/elina-lepomaki-cafe-mellstenissa/
LOCATION:Café Mellsten\, Mellstenintie 6\, 02170 Espoo
END:VEVENT
BEGIN:VEVENT
DTSTART;TZID=Europe/Helsinki:20190406T110000
DTEND;TZID=Europe/Helsinki:20190406T120000
DTSTAMP:20260425T210226
CREATED:20190327T131319Z
LAST-MODIFIED:20190327T131319Z
UID:2233-1554548400-1554552000@elinavaltonen.fi
SUMMARY:Elina tavattavissa Tapiolan vaaliteltalla
DESCRIPTION:Kiinnostavimmat keskustelut käydään Tapiolassa Kokoomuksen teltalla.\nTule jututtamaan Elinaa Tapiolaan!
URL:https://elinavaltonen.fi/tapahtuma/elina-tavattavissa-tapiolan-vaaliteltalla/
LOCATION:Tapiolan vaaliteltta\, Tapiolan metroaseman ja Jyskin välinen aukio\, Länsituulentie 4\, Espoo
END:VEVENT
BEGIN:VEVENT
DTSTART;TZID=Europe/Helsinki:20190406T100000
DTEND;TZID=Europe/Helsinki:20190406T140000
DTSTAMP:20260425T210226
CREATED:20190219T220341Z
LAST-MODIFIED:20190401T121831Z
UID:1923-1554544800-1554559200@elinavaltonen.fi
SUMMARY:Toimintapäivä 6.4.2019
DESCRIPTION:Tiimiläiset \n\nVeikkola\, Kirkkonummi\, klo 9-14\nMyyrmanni\, Vantaa\, klo 10-14\nTikkurila\, Vantaa\, klo 10-15\n\nElinan kierros \n\n10-10.30 Leppävaaran maalaismarkkinat\n11-12 Tapiolan vaaliteltta\n12.30-14.30 Vielä auki\, mahd Kauklahti\n15-16 Café Mellsten Haukilahti\, oma tilaisuus
URL:https://elinavaltonen.fi/tapahtuma/toimintapaiva-6-4-2019/
LOCATION:Turut ja torit
END:VEVENT
BEGIN:VEVENT
DTSTART;TZID=Europe/Helsinki:20190406T100000
DTEND;TZID=Europe/Helsinki:20190406T104000
DTSTAMP:20260425T210226
CREATED:20190327T130738Z
LAST-MODIFIED:20190327T130738Z
UID:2230-1554544800-1554547200@elinavaltonen.fi
SUMMARY:Elina Lepomäki Leppävaaran maalaismarkkinoilla
DESCRIPTION:Leppävaaran Maalaismarkkinat on varma kevään merkki Espoossa. Maalaismarkkinat järjestetään kävelykatu Leppäraitilla\, Läkkitorilla ja sen välittömissä läheisyydessä. \nNähdään markkinoilla!
URL:https://elinavaltonen.fi/tapahtuma/elina-lepomaki-leppavaaran-maalaismarkkinoilla/
LOCATION:Leppävaaran maalaismarkkinat\, Läkkisepänkuja 3\, 02650 Espoo
END:VEVENT
BEGIN:VEVENT
DTSTART;TZID=Europe/Helsinki:20190404T170000
DTEND;TZID=Europe/Helsinki:20190404T170000
DTSTAMP:20260425T210226
CREATED:20190403T095029Z
LAST-MODIFIED:20190404T052155Z
UID:2325-1554397200-1554397200@elinavaltonen.fi
SUMMARY:Jalkautuminen Haukilahden rannassa 4.4. klo 17
DESCRIPTION:Tiimiläiset ja tukijat!\nto 4.4. Klo 17 alkaen kokoonnutaan Haukilahden venesataman edessä. Jaetaan flyereita ja keskustellaan ihmisten kanssa! \nAurinkoa luvassa! 😎
URL:https://elinavaltonen.fi/tapahtuma/jalkutuminen-haukilahden-rannassa-4-4-klo-17/
LOCATION:Haukilahden venesatama\, Espoo
END:VEVENT
BEGIN:VEVENT
DTSTART;TZID=Europe/Helsinki:20190404T080000
DTEND;TZID=Europe/Helsinki:20190404T090000
DTSTAMP:20260425T210226
CREATED:20190326T075628Z
LAST-MODIFIED:20190326T103524Z
UID:2159-1554364800-1554368400@elinavaltonen.fi
SUMMARY:Elina Lepomäki ja Maarit Vierunen - Puhutaan taloudesta
DESCRIPTION:Tervetuloa keskustelemaan taloudesta ja tulevaisuudesta kokoomuksen eduskuntavaaliehdokkaiden Maarit Vierunen (Helsinki) ja Elina Lepomäki (Uusimaa) kanssa.
URL:https://elinavaltonen.fi/tapahtuma/elina-lepomaki-ja-maarit-vierunen-puhutaan-taloudesta/
LOCATION:Kämp Bar\, Pohjoisesplanadi 29\, 00100 Helsinki
END:VEVENT
END:VCALENDAR